BEGIN:VCALENDAR
VERSION:2.0
PRODID:SchoolNow
CALSCALE:GREGORIAN
BEGIN:VEVENT
UID:63de4074-2559-11ed-9f1f-0e29f1ad6a43
DTSTAMP:20220927T173520Z
SUMMARY:Cancelled- CDD Board Meeting- Oct. 2022
URL;VALUE=URI:https://www.dwbayviewcdd.org/calendar/3307012/cdd-board-meeti
 ng-oct-2022
DTSTART:20221007T150000Z
DTEND:20221007T160000Z
END:VEVENT
END:VCALENDAR
