BEGIN:VCALENDAR
VERSION:2.0
PRODID:SchoolNow
CALSCALE:GREGORIAN
BEGIN:VEVENT
UID:2fde688c-255c-11ed-89d1-0aacdae95701
DTSTAMP:20221026T141225Z
SUMMARY:Cancelled- CDD Board Meeting- Nov. 2022
LOCATION:The Eagle Pointe Clubhouse\, Located at 11450 Moonsail Drive\, Par
 rish\, Florida 34219
URL;VALUE=URI:https://www.dwbayviewcdd.org/calendar/3307013/cdd-board-meeti
 ng-nov-2022
DTSTART:20221104T150000Z
DTEND:20221104T160000Z
END:VEVENT
END:VCALENDAR
