BEGIN:VCALENDAR
VERSION:2.0
PRODID:SchoolNow
CALSCALE:GREGORIAN
BEGIN:VEVENT
UID:411e220e-255c-11ed-905e-0aacdae95701
DTSTAMP:20221128T174630Z
SUMMARY:Cancelled- CDD Board Meeting- Dec. 2022
LOCATION:The Eagle Pointe Clubhouse\, Located at 11450 Moonsail Drive\, Par
 rish\, Florida 34219
URL;VALUE=URI:https://www.dwbayviewcdd.org/calendar/3307014/cdd-board-meeti
 ng-dec-2022
DTSTART:20221202T160000Z
DTEND:20221202T170000Z
END:VEVENT
END:VCALENDAR
