BEGIN:VCALENDAR
VERSION:2.0
PRODID:SchoolNow
CALSCALE:GREGORIAN
BEGIN:VEVENT
UID:53e6e4ca-255c-11ed-b4d4-0aacdae95701
DTSTAMP:20221229T150323Z
SUMMARY:Cancelled- CDD Board Meeting- Jan. 2023
LOCATION:The Eagle Pointe Clubhouse\, Located at 11450 Moonsail Drive\, Par
 rish\, Florida 34219
URL;VALUE=URI:https://www.dwbayviewcdd.org/calendar/3307015/cdd-board-meeti
 ng-jan-2023
DTSTART:20230106T160000Z
DTEND:20230106T170000Z
END:VEVENT
END:VCALENDAR
