BEGIN:VCALENDAR
VERSION:2.0
PRODID:SchoolNow
CALSCALE:GREGORIAN
BEGIN:VEVENT
UID:61ff1b2c-255c-11ed-9eda-0aacdae95701
DTSTAMP:20221128T174647Z
SUMMARY:CDD Board Meeting- Feb. 2023
LOCATION:The Eagle Pointe Clubhouse\, Located at 11450 Moonsail Drive\, Par
 rish\, Florida 34219
URL;VALUE=URI:https://www.dwbayviewcdd.org/calendar/3307016/cdd-board-meeti
 ng-feb-2023
DTSTART:20230203T160000Z
DTEND:20230203T170000Z
END:VEVENT
END:VCALENDAR
