BEGIN:VCALENDAR
VERSION:2.0
PRODID:SchoolNow
CALSCALE:GREGORIAN
BEGIN:VEVENT
UID:7a4963a4-255c-11ed-afc4-0aacdae95701
DTSTAMP:20230330T160603Z
SUMMARY:CANCELLED- CDD Board Meeting- Apr. 2023
LOCATION:The Isles of Bayview Clubhouse located at 11450 Moonsail Drive\, P
 arrish\, FL 34219
URL;VALUE=URI:https://www.dwbayviewcdd.org/calendar/3307018/cdd-board-meeti
 ng-apr-2023
DTSTART:20230407T150000Z
DTEND:20230407T160000Z
END:VEVENT
END:VCALENDAR
