BEGIN:VCALENDAR
VERSION:2.0
PRODID:SchoolNow
CALSCALE:GREGORIAN
BEGIN:VEVENT
UID:87dc77ae-255c-11ed-8b34-0aacdae95701
DTSTAMP:20230501T163006Z
SUMMARY:CANCELLED- CDD Board Meeting- May 2023
LOCATION:The Isles of Bayview Clubhouse located at 11450 Moonsail Drive\, P
 arrish\, FL 34219
URL;VALUE=URI:https://www.dwbayviewcdd.org/calendar/3307019/cdd-board-meeti
 ng-may-2023
DTSTART:20230505T150000Z
DTEND:20230505T160000Z
END:VEVENT
END:VCALENDAR
