BEGIN:VCALENDAR
VERSION:2.0
PRODID:SchoolNow
CALSCALE:GREGORIAN
BEGIN:VEVENT
UID:93e33bd2-255c-11ed-a1c6-0aacdae95701
DTSTAMP:20230303T142743Z
SUMMARY:CDD Board Meeting- Jun. 2023
LOCATION:The Isles of Bayview Clubhouse located at 11450 Moonsail Drive\, P
 arrish\, FL 34219
URL;VALUE=URI:https://www.dwbayviewcdd.org/calendar/3307020/cdd-board-meeti
 ng-jun-2023
DTSTART:20230602T150000Z
DTEND:20230602T160000Z
END:VEVENT
END:VCALENDAR
