BEGIN:VCALENDAR
VERSION:2.0
PRODID:SchoolNow
CALSCALE:GREGORIAN
BEGIN:VEVENT
UID:9eae6154-255c-11ed-b063-0aacdae95701
DTSTAMP:20230705T162725Z
SUMMARY:CANCELLED- CDD Board Meeting- Jul. 2023
LOCATION:The Isles of Bayview Clubhouse located at 11450 Moonsail Drive\, P
 arrish\, FL 34219
URL;VALUE=URI:https://www.dwbayviewcdd.org/calendar/3307021/cdd-board-meeti
 ng-jul-2023
DTSTART:20230707T150000Z
DTEND:20230707T160000Z
END:VEVENT
END:VCALENDAR
