BEGIN:VCALENDAR
VERSION:2.0
PRODID:SchoolNow
CALSCALE:GREGORIAN
BEGIN:VEVENT
UID:ac7dd27e-255c-11ed-aecd-0aacdae95701
DTSTAMP:20230731T132027Z
SUMMARY:CANCELLED- CDD Board Meeting- Aug. 2023
LOCATION:Driftwood Clubhouse located at 8810 Barrier Coast Trail\, Parrish\
 , FL 34219
URL;VALUE=URI:https://www.dwbayviewcdd.org/calendar/3307022/cdd-board-meeti
 ng-aug-2023
DTSTART:20230804T150000Z
DTEND:20230804T160000Z
END:VEVENT
END:VCALENDAR
