BEGIN:VCALENDAR
VERSION:2.0
PRODID:SchoolNow
CALSCALE:GREGORIAN
BEGIN:VEVENT
UID:f08992c4-4a5e-11ed-afbb-0e1efb77f3cb
DTSTAMP:20221012T185154Z
SUMMARY:CDD Board Meeting- Landowner Election
LOCATION:Harrison Ranch Clubhouse located at 5755 Harrison Ranch Blvd\, Par
 rish\, Florida 34219
URL;VALUE=URI:https://www.dwbayviewcdd.org/calendar/3512886/cdd-board-meeti
 ng-landowner-election
DTSTART:20221101T180000Z
DTEND:20221101T190000Z
END:VEVENT
END:VCALENDAR
