BEGIN:VCALENDAR
VERSION:2.0
PRODID:SchoolNow
CALSCALE:GREGORIAN
BEGIN:VEVENT
UID:fbc8258a-24b3-11ee-b895-0a58a9feac02
DTSTAMP:20230802T143556Z
SUMMARY:CDD Board Meeting- Aug. 2023
LOCATION:Driftwood Clubhouse\, located at 8810 Barrier Coast Trail\, Parris
 h\, Florida 34219
URL;VALUE=URI:https://www.dwbayviewcdd.org/calendar/4499905/cdd-board-meeti
 ng-aug-2023
DTSTART:20230811T150000Z
DTEND:20230811T160000Z
END:VEVENT
END:VCALENDAR
