BEGIN:VCALENDAR
VERSION:2.0
PRODID:SchoolNow
CALSCALE:GREGORIAN
BEGIN:VEVENT
UID:90614692-3a76-11f1-866b-0a58a9feac02
DTSTAMP:20260424T125910Z
SUMMARY:Budget Workshop - April 2026
LOCATION:Driftwood Clubhouse located at 8810 Barrier Coast Trail\, Parrish\
 , FL 34219
URL;VALUE=URI:https://www.dwbayviewcdd.org/calendar/9000950/budget-workshop
 -april-2026
DTSTART:20260430T140000Z
DTEND:20260430T150000Z
ATTACH;FILENAME=2026-04-30- DW Bayview CDD- Budget Workshop.pdf;FMTTYPE=app
 lication/pdf:https://campussuite-storage.s3.amazonaws.com/prod/1559054/7de
 a74dc-331c-11eb-bcc2-0ad832255c89/3092319/606910de-3fdd-11f1-82b5-02c983a1
 ab1b/file/2026-04-30- DW Bayview CDD- Budget Workshop.pdf
END:VEVENT
END:VCALENDAR
